BEGIN:VCALENDAR
VERSION:2.0
PRODID:-//Humber Valley Radio Control Flyers - ECPv6.15.13//NONSGML v1.0//EN
CALSCALE:GREGORIAN
METHOD:PUBLISH
X-WR-CALNAME:Humber Valley Radio Control Flyers
X-ORIGINAL-URL:https://staging.hvrcf.org
X-WR-CALDESC:Events for Humber Valley Radio Control Flyers
REFRESH-INTERVAL;VALUE=DURATION:PT1H
X-Robots-Tag:noindex
X-PUBLISHED-TTL:PT1H
BEGIN:VTIMEZONE
TZID:America/Toronto
BEGIN:DAYLIGHT
TZOFFSETFROM:-0500
TZOFFSETTO:-0400
TZNAME:EDT
DTSTART:20190310T070000
END:DAYLIGHT
BEGIN:STANDARD
TZOFFSETFROM:-0400
TZOFFSETTO:-0500
TZNAME:EST
DTSTART:20191103T060000
END:STANDARD
BEGIN:DAYLIGHT
TZOFFSETFROM:-0500
TZOFFSETTO:-0400
TZNAME:EDT
DTSTART:20200308T070000
END:DAYLIGHT
BEGIN:STANDARD
TZOFFSETFROM:-0400
TZOFFSETTO:-0500
TZNAME:EST
DTSTART:20201101T060000
END:STANDARD
BEGIN:DAYLIGHT
TZOFFSETFROM:-0500
TZOFFSETTO:-0400
TZNAME:EDT
DTSTART:20210314T070000
END:DAYLIGHT
BEGIN:STANDARD
TZOFFSETFROM:-0400
TZOFFSETTO:-0500
TZNAME:EST
DTSTART:20211107T060000
END:STANDARD
BEGIN:DAYLIGHT
TZOFFSETFROM:-0500
TZOFFSETTO:-0400
TZNAME:EDT
DTSTART:20220313T070000
END:DAYLIGHT
BEGIN:STANDARD
TZOFFSETFROM:-0400
TZOFFSETTO:-0500
TZNAME:EST
DTSTART:20221106T060000
END:STANDARD
BEGIN:DAYLIGHT
TZOFFSETFROM:-0500
TZOFFSETTO:-0400
TZNAME:EDT
DTSTART:20230312T070000
END:DAYLIGHT
BEGIN:STANDARD
TZOFFSETFROM:-0400
TZOFFSETTO:-0500
TZNAME:EST
DTSTART:20231105T060000
END:STANDARD
BEGIN:DAYLIGHT
TZOFFSETFROM:-0500
TZOFFSETTO:-0400
TZNAME:EDT
DTSTART:20240310T070000
END:DAYLIGHT
BEGIN:STANDARD
TZOFFSETFROM:-0400
TZOFFSETTO:-0500
TZNAME:EST
DTSTART:20241103T060000
END:STANDARD
END:VTIMEZONE
BEGIN:VEVENT
DTSTART;TZID=America/Toronto:20230225T090000
DTEND;TZID=America/Toronto:20230225T110000
DTSTAMP:20260420T092458
CREATED:20230207T014617Z
LAST-MODIFIED:20230207T014617Z
UID:2446-1677315600-1677322800@staging.hvrcf.org
SUMMARY:February 25th Indoor flight at York University.
DESCRIPTION:Great news everyone! We contacted York University now that the school year is well underway to see if there might be any time slots they could give us for indoor flying at the York U. double gym. Turns out a couple of dates are available. We have reserved Sat Feb 25th and Sat April 1st. We will send out instructions by email around the middle of February.
URL:https://staging.hvrcf.org/event/february-25th-indoor-flight-at-york-university/
LOCATION:Tait McKenzie Centre\, 1 Thompson Rd\, Toronto\, Ontario\, M3J 1P3\, Canada
CATEGORIES:Club events,Indoor Flying
END:VEVENT
BEGIN:VEVENT
DTSTART;TZID=America/Toronto:20200329T090000
DTEND;TZID=America/Toronto:20200329T110000
DTSTAMP:20260420T092458
CREATED:20200213T033146Z
LAST-MODIFIED:20200318T152319Z
UID:297-1585472400-1585479600@staging.hvrcf.org
SUMMARY:Last Indoor Flying - CANCELLED DUE TO COVID-19 OUTBREAK
DESCRIPTION:Indoor Flying @ York U is cancelled due to the Corona Virus outbreak.
URL:https://staging.hvrcf.org/event/last-indoor-flight/
LOCATION:Tait McKenzie Centre\, 1 Thompson Rd\, Toronto\, Ontario\, M3J 1P3\, Canada
CATEGORIES:Indoor Flying
END:VEVENT
BEGIN:VEVENT
DTSTART;TZID=America/Toronto:20200308T090000
DTEND;TZID=America/Toronto:20200308T110000
DTSTAMP:20260420T092458
CREATED:20200213T032732Z
LAST-MODIFIED:20200213T032920Z
UID:293-1583658000-1583665200@staging.hvrcf.org
SUMMARY:Indoor Flight
DESCRIPTION:Indoor Flying @ York U 9-11am – the one before the last indoor event for this winter.
URL:https://staging.hvrcf.org/event/indoor-flight-5/
LOCATION:Tait McKenzie Centre\, 1 Thompson Rd\, Toronto\, Ontario\, M3J 1P3\, Canada
CATEGORIES:Indoor Flying
END:VEVENT
BEGIN:VEVENT
DTSTART;TZID=America/Toronto:20200223T090000
DTEND;TZID=America/Toronto:20200223T110000
DTSTAMP:20260420T092458
CREATED:20200213T031834Z
LAST-MODIFIED:20200213T032016Z
UID:290-1582448400-1582455600@staging.hvrcf.org
SUMMARY:Indoor Flight
DESCRIPTION:Indoor Flying @ York U 9-11am\, 3 more events left\, come out!
URL:https://staging.hvrcf.org/event/indoor-flight-4/
LOCATION:Tait McKenzie Centre\, 1 Thompson Rd\, Toronto\, Ontario\, M3J 1P3\, Canada
CATEGORIES:Indoor Flying
END:VEVENT
BEGIN:VEVENT
DTSTART;TZID=America/Toronto:20200216T090000
DTEND;TZID=America/Toronto:20200216T110000
DTSTAMP:20260420T092458
CREATED:20200213T031249Z
LAST-MODIFIED:20200213T031249Z
UID:288-1581843600-1581850800@staging.hvrcf.org
SUMMARY:Indoor Flying
DESCRIPTION:Indoor Flying @ York U 9-11am\, come out and enjoy flying your fomaies indoor.
URL:https://staging.hvrcf.org/event/indoor-flying-2/
LOCATION:Tait McKenzie Centre\, 1 Thompson Rd\, Toronto\, Ontario\, M3J 1P3\, Canada
CATEGORIES:Indoor Flying
END:VEVENT
BEGIN:VEVENT
DTSTART;TZID=America/Toronto:20200209T090000
DTEND;TZID=America/Toronto:20200209T110000
DTSTAMP:20260420T092458
CREATED:20200213T030628Z
LAST-MODIFIED:20200213T031312Z
UID:282-1581238800-1581246000@staging.hvrcf.org
SUMMARY:Indoor Flying
DESCRIPTION:Indoor Flying @ York U 9-11am\, all members are welcome.
URL:https://staging.hvrcf.org/event/indoor-flying/
LOCATION:Tait McKenzie Centre\, 1 Thompson Rd\, Toronto\, Ontario\, M3J 1P3\, Canada
CATEGORIES:Indoor Flying
END:VEVENT
BEGIN:VEVENT
DTSTART;TZID=America/Toronto:20200119T090000
DTEND;TZID=America/Toronto:20200119T110000
DTSTAMP:20260420T092458
CREATED:20200213T030253Z
LAST-MODIFIED:20200213T031339Z
UID:278-1579424400-1579431600@staging.hvrcf.org
SUMMARY:Indoor Flight
DESCRIPTION:Indoor Flying @ York U 9-11am\, bring your foamies to life.
URL:https://staging.hvrcf.org/event/indoor-flight-3/
LOCATION:Tait McKenzie Centre\, 1 Thompson Rd\, Toronto\, Ontario\, M3J 1P3\, Canada
CATEGORIES:Indoor Flying
END:VEVENT
BEGIN:VEVENT
DTSTART;TZID=America/Toronto:20200112T090000
DTEND;TZID=America/Toronto:20200112T110000
DTSTAMP:20260420T092458
CREATED:20200213T030151Z
LAST-MODIFIED:20200213T030151Z
UID:276-1578819600-1578826800@staging.hvrcf.org
SUMMARY:Indoor Flight
DESCRIPTION:Indoor Flying @ York U 9-11am\, bring your foamies to life.
URL:https://staging.hvrcf.org/event/indoor-flight-2/
LOCATION:Tait McKenzie Centre\, 1 Thompson Rd\, Toronto\, Ontario\, M3J 1P3\, Canada
CATEGORIES:Indoor Flying
END:VEVENT
BEGIN:VEVENT
DTSTART;TZID=America/Toronto:20200105T090000
DTEND;TZID=America/Toronto:20200105T110000
DTSTAMP:20260420T092458
CREATED:20200213T025556Z
LAST-MODIFIED:20200213T031357Z
UID:272-1578214800-1578222000@staging.hvrcf.org
SUMMARY:Indoor Flight
DESCRIPTION:Indoor Flying @ York U 9-11am\, bring your foamies to life.
URL:https://staging.hvrcf.org/event/indoor-flight/
LOCATION:Tait McKenzie Centre\, 1 Thompson Rd\, Toronto\, Ontario\, M3J 1P3\, Canada
CATEGORIES:Indoor Flying
END:VEVENT
END:VCALENDAR